BEGIN:VCALENDAR
VERSION:2.0
CALSCALE:GREGORIAN
PRODID:-//Diputació de Barcelona//DibaCMS//EN
BEGIN:VEVENT
UID:6431
DTSTAMP:20260424T020404
DTSTART:20120506T120000
DTEND:20120506T000000
SUMMARY:Actuació castellera solidària: Castellers de Caldes amb la Marató per la Pobresa
LOCATION:
METHOD:PUBLISH
X-WR-CALNAME:caldesm@caldesdemontbui.cat
X-WR-TIMEZONE:Europe/Madrid
DESCRIPTION:
URI:https://www.caldesdemontbui.cat/actualitat/agenda/actuacio-castellera-solidaria-castellers-de-caldes-amb-la-marato-per-la-pobresa.html
CLASS:PUBLIC
END:VEVENT
END:VCALENDAR
