BEGIN:VCALENDAR
VERSION:2.0
CALSCALE:GREGORIAN
PRODID:-//Diputació de Barcelona//DibaCMS//EN
BEGIN:VEVENT
UID:6430
DTSTAMP:20260424T035834
DTSTART:20120505T120000
DTEND:20120505T000000
SUMMARY:III Trobada de Bateries a Sant Andreu de la Barca
LOCATION:
METHOD:PUBLISH
X-WR-CALNAME:caldesm@caldesdemontbui.cat
X-WR-TIMEZONE:Europe/Madrid
DESCRIPTION:
URI:https://www.caldesdemontbui.cat/actualitat/agenda/iii-trobada-de-bateries-a-sant-andreu-de-la-barca.html
CLASS:PUBLIC
END:VEVENT
END:VCALENDAR
