BEGIN:VCALENDAR
VERSION:2.0
CALSCALE:GREGORIAN
PRODID:-//Diputació de Barcelona//DibaCMS//EN
BEGIN:VEVENT
UID:6427
DTSTAMP:20260424T034714
DTSTART:20120504T193000
DTEND:20120504T000000
SUMMARY:Cinefòrum: Capitalisme. Un itinerari crític. "Entrevista amb Miren Etxezarreta"
LOCATION:
METHOD:PUBLISH
X-WR-CALNAME:caldesm@caldesdemontbui.cat
X-WR-TIMEZONE:Europe/Madrid
DESCRIPTION:
URI:https://www.caldesdemontbui.cat/actualitat/agenda/cineforum-capitalisme-un-itinerari-critic-entrevista-amb-miren-etxezarreta.html
CLASS:PUBLIC
END:VEVENT
END:VCALENDAR
