BEGIN:VCALENDAR
VERSION:2.0
CALSCALE:GREGORIAN
PRODID:-//Diputació de Barcelona//DibaCMS//EN
BEGIN:VEVENT
UID:6425
DTSTAMP:20260424T104628
DTSTART:20120503T210000
DTEND:20120503T000000
SUMMARY:Xerrada "Com construir una relació satisfactòria amb els nostres fills en la vida quotidiana"
LOCATION:
METHOD:PUBLISH
X-WR-CALNAME:caldesm@caldesdemontbui.cat
X-WR-TIMEZONE:Europe/Madrid
DESCRIPTION:
URI:https://www.caldesdemontbui.cat/actualitat/agenda/xerrada-com-construir-una-relacio-satisfactoria-amb-els-nostres-fills-en-la-vida-quotidiana.html
CLASS:PUBLIC
END:VEVENT
END:VCALENDAR
