BEGIN:VCALENDAR
VERSION:2.0
CALSCALE:GREGORIAN
PRODID:-//Diputació de Barcelona//DibaCMS//EN
BEGIN:VEVENT
UID:6423
DTSTAMP:20260424T020317
DTSTART:20120502T080000
DTEND:20120502T000000
SUMMARY:Caminada can Duran
LOCATION:
METHOD:PUBLISH
X-WR-CALNAME:caldesm@caldesdemontbui.cat
X-WR-TIMEZONE:Europe/Madrid
DESCRIPTION:
URI:https://www.caldesdemontbui.cat/actualitat/agenda/caminada-can-duran.html
CLASS:PUBLIC
END:VEVENT
END:VCALENDAR
