BEGIN:VCALENDAR
VERSION:2.0
CALSCALE:GREGORIAN
PRODID:-//Diputació de Barcelona//DibaCMS//EN
BEGIN:VEVENT
UID:6420
DTSTAMP:20260424T020724
DTSTART:20120430T190000
DTEND:20120430T000000
SUMMARY:Club de lectura sobre l'obra Aus migratòries, de Marianne Fredrikson
LOCATION:
METHOD:PUBLISH
X-WR-CALNAME:caldesm@caldesdemontbui.cat
X-WR-TIMEZONE:Europe/Madrid
DESCRIPTION:
URI:https://www.caldesdemontbui.cat/actualitat/agenda/club-de-lectura-sobre-lobra-aus-migratories-de-marianne-fredrikson.html
CLASS:PUBLIC
END:VEVENT
END:VCALENDAR
