BEGIN:VCALENDAR
VERSION:2.0
CALSCALE:GREGORIAN
PRODID:-//Diputació de Barcelona//DibaCMS//EN
BEGIN:VEVENT
UID:6418
DTSTAMP:20260424T070714
DTSTART:20120429T183000
DTEND:20120429T000000
SUMMARY:Xerrada "Veus des de l'exili i el refugi: dones colombianes a Espanya", a càrrec de Betty Puerto, defensora dels Drets humans a Colòmbia
LOCATION:
METHOD:PUBLISH
X-WR-CALNAME:caldesm@caldesdemontbui.cat
X-WR-TIMEZONE:Europe/Madrid
DESCRIPTION:
URI:https://www.caldesdemontbui.cat/actualitat/agenda/xerrada-veus-des-de-lexili-i-el-refugi-dones-colombianes-a-espanya-a-carrec-de-betty-puerto-defensora-dels-drets-humans-a-colombia.html
CLASS:PUBLIC
END:VEVENT
END:VCALENDAR
