BEGIN:VCALENDAR
VERSION:2.0
CALSCALE:GREGORIAN
PRODID:-//Diputació de Barcelona//DibaCMS//EN
BEGIN:VEVENT
UID:6416
DTSTAMP:20260424T035756
DTSTART:20120428T103000
DTEND:20120428T000000
SUMMARY:Activitat per donar a conèixer l'Escola Bressol Municipal La Lluna
LOCATION:
METHOD:PUBLISH
X-WR-CALNAME:caldesm@caldesdemontbui.cat
X-WR-TIMEZONE:Europe/Madrid
DESCRIPTION:
URI:https://www.caldesdemontbui.cat/actualitat/agenda/activitat-per-donar-a-coneixer-lescola-bressol-municipal-la-lluna.html
CLASS:PUBLIC
END:VEVENT
END:VCALENDAR
