BEGIN:VCALENDAR
VERSION:2.0
CALSCALE:GREGORIAN
PRODID:-//Diputació de Barcelona//DibaCMS//EN
BEGIN:VEVENT
UID:6415
DTSTAMP:20260424T111334
DTSTART:20120428T000000
DTEND:20120428T000000
SUMMARY:Del 28 d'abril a l'1 de maig: travessa pel Berguedà i Solsonès. Ruta del Caracremada
LOCATION:
METHOD:PUBLISH
X-WR-CALNAME:caldesm@caldesdemontbui.cat
X-WR-TIMEZONE:Europe/Madrid
DESCRIPTION:
URI:https://www.caldesdemontbui.cat/actualitat/agenda/del-28-dabril-a-l1-de-maig-travessa-pel-bergueda-i-solsones-ruta-del-caracremada.html
CLASS:PUBLIC
END:VEVENT
END:VCALENDAR
