BEGIN:VCALENDAR
VERSION:2.0
CALSCALE:GREGORIAN
PRODID:-//Diputació de Barcelona//DibaCMS//EN
BEGIN:VEVENT
UID:6412
DTSTAMP:20260424T053635
DTSTART:20120427T180000
DTEND:20120427T000000
SUMMARY:Hora del conte: Els lletraferits
LOCATION:
METHOD:PUBLISH
X-WR-CALNAME:caldesm@caldesdemontbui.cat
X-WR-TIMEZONE:Europe/Madrid
DESCRIPTION:
URI:https://www.caldesdemontbui.cat/actualitat/agenda/hora-del-conte-els-lletraferits.html
CLASS:PUBLIC
END:VEVENT
END:VCALENDAR
