BEGIN:VCALENDAR
VERSION:2.0
CALSCALE:GREGORIAN
PRODID:-//Diputació de Barcelona//DibaCMS//EN
BEGIN:VEVENT
UID:6411
DTSTAMP:20260424T064856
DTSTART:20120427T150000
DTEND:20120427T000000
SUMMARY:Xerrada "Límits i normes: com dir no
LOCATION:
METHOD:PUBLISH
X-WR-CALNAME:caldesm@caldesdemontbui.cat
X-WR-TIMEZONE:Europe/Madrid
DESCRIPTION:
URI:https://www.caldesdemontbui.cat/actualitat/agenda/xerrada-limits-i-normes-com-dir-no.html
CLASS:PUBLIC
END:VEVENT
END:VCALENDAR
