BEGIN:VCALENDAR
VERSION:2.0
CALSCALE:GREGORIAN
PRODID:-//Diputació de Barcelona//DibaCMS//EN
BEGIN:VEVENT
UID:6410
DTSTAMP:20260423T221702
DTSTART:20120427T110000
DTEND:20120427T000000
SUMMARY:Ofrena de romaní a la Mare de Déu de Montserrat
LOCATION:
METHOD:PUBLISH
X-WR-CALNAME:caldesm@caldesdemontbui.cat
X-WR-TIMEZONE:Europe/Madrid
DESCRIPTION:
URI:https://www.caldesdemontbui.cat/actualitat/agenda/ofrena-de-romani-a-la-mare-de-deu-de-montserrat.html
CLASS:PUBLIC
END:VEVENT
END:VCALENDAR
