BEGIN:VCALENDAR
VERSION:2.0
CALSCALE:GREGORIAN
PRODID:-//Diputació de Barcelona//DibaCMS//EN
BEGIN:VEVENT
UID:6408
DTSTAMP:20260423T221617
DTSTART:20120427T000000
DTEND:20120427T000000
SUMMARY:Trobada per mirar estels des de la serra del Farell 
LOCATION:
METHOD:PUBLISH
X-WR-CALNAME:caldesm@caldesdemontbui.cat
X-WR-TIMEZONE:Europe/Madrid
DESCRIPTION:
URI:https://www.caldesdemontbui.cat/actualitat/agenda/trobada-per-mirar-estels-des-de-la-serra-del-farell-.html
CLASS:PUBLIC
END:VEVENT
END:VCALENDAR
