BEGIN:VCALENDAR
VERSION:2.0
CALSCALE:GREGORIAN
PRODID:-//Diputació de Barcelona//DibaCMS//EN
BEGIN:VEVENT
UID:6407
DTSTAMP:20260423T235546
DTSTART:20120426T190000
DTEND:20120426T000000
SUMMARY:Xerrada "Petits lectors: com treballar la lectura amb els més menuts"
LOCATION:
METHOD:PUBLISH
X-WR-CALNAME:caldesm@caldesdemontbui.cat
X-WR-TIMEZONE:Europe/Madrid
DESCRIPTION:
URI:https://www.caldesdemontbui.cat/actualitat/agenda/xerrada-petits-lectors-com-treballar-la-lectura-amb-els-mes-menuts.html
CLASS:PUBLIC
END:VEVENT
END:VCALENDAR
