BEGIN:VCALENDAR
VERSION:2.0
CALSCALE:GREGORIAN
PRODID:-//Diputació de Barcelona//DibaCMS//EN
BEGIN:VEVENT
UID:6406
DTSTAMP:20260423T235436
DTSTART:20120426T180000
DTEND:20120426T000000
SUMMARY:L'educació surt escaldada. Manifestació - concentració contra les retallades
LOCATION:
METHOD:PUBLISH
X-WR-CALNAME:caldesm@caldesdemontbui.cat
X-WR-TIMEZONE:Europe/Madrid
DESCRIPTION:
URI:https://www.caldesdemontbui.cat/actualitat/agenda/leducacio-surt-escaldada-manifestacio---concentracio-contra-les-retallades.html
CLASS:PUBLIC
END:VEVENT
END:VCALENDAR
