BEGIN:VCALENDAR
VERSION:2.0
CALSCALE:GREGORIAN
PRODID:-//Diputació de Barcelona//DibaCMS//EN
BEGIN:VEVENT
UID:6405
DTSTAMP:20260424T013502
DTSTART:20120425T160000
DTEND:20120425T000000
SUMMARY:Presentació del llibre "Llegendes de Caldes de Montbui" al Centre Cívic
LOCATION:
METHOD:PUBLISH
X-WR-CALNAME:caldesm@caldesdemontbui.cat
X-WR-TIMEZONE:Europe/Madrid
DESCRIPTION:
URI:https://www.caldesdemontbui.cat/actualitat/agenda/presentacio-del-llibre-llegendes-de-caldes-de-montbui-al-centre-civic.html
CLASS:PUBLIC
END:VEVENT
END:VCALENDAR
