BEGIN:VCALENDAR
VERSION:2.0
CALSCALE:GREGORIAN
PRODID:-//Diputació de Barcelona//DibaCMS//EN
BEGIN:VEVENT
UID:6404
DTSTAMP:20260424T011959
DTSTART:20120425T160000
DTEND:20120425T000000
SUMMARY:La llegenda de Sant Jordi
LOCATION:
METHOD:PUBLISH
X-WR-CALNAME:caldesm@caldesdemontbui.cat
X-WR-TIMEZONE:Europe/Madrid
DESCRIPTION:
URI:https://www.caldesdemontbui.cat/actualitat/agenda/la-llegenda-de-sant-jordi.html
CLASS:PUBLIC
END:VEVENT
END:VCALENDAR
