BEGIN:VCALENDAR
VERSION:2.0
CALSCALE:GREGORIAN
PRODID:-//Diputació de Barcelona//DibaCMS//EN
BEGIN:VEVENT
UID:6403
DTSTAMP:20260423T221918
DTSTART:20120425T080000
DTEND:20120425T000000
SUMMARY:Caminada a Santa Margarida i els Monjos
LOCATION:
METHOD:PUBLISH
X-WR-CALNAME:caldesm@caldesdemontbui.cat
X-WR-TIMEZONE:Europe/Madrid
DESCRIPTION:
URI:https://www.caldesdemontbui.cat/actualitat/agenda/caminada-a-santa-margarida-i-els-monjos.html
CLASS:PUBLIC
END:VEVENT
END:VCALENDAR
