BEGIN:VCALENDAR
VERSION:2.0
CALSCALE:GREGORIAN
PRODID:-//Diputació de Barcelona//DibaCMS//EN
BEGIN:VEVENT
UID:6398
DTSTAMP:20260424T020911
DTSTART:20120423T180000
DTEND:20120423T000000
SUMMARY:12è. Concurs de punts de llibre de la Biblioteca. Espectacle infantil amb motiu de Sant Jordi
LOCATION:
METHOD:PUBLISH
X-WR-CALNAME:caldesm@caldesdemontbui.cat
X-WR-TIMEZONE:Europe/Madrid
DESCRIPTION:
URI:https://www.caldesdemontbui.cat/actualitat/agenda/12e-concurs-de-punts-de-llibre-de-la-biblioteca-espectacle-infantil-amb-motiu-de-sant-jordi.html
CLASS:PUBLIC
END:VEVENT
END:VCALENDAR
