BEGIN:VCALENDAR
VERSION:2.0
CALSCALE:GREGORIAN
PRODID:-//Diputació de Barcelona//DibaCMS//EN
BEGIN:VEVENT
UID:6397
DTSTAMP:20260424T064953
DTSTART:20120423T180000
DTEND:20120423T000000
SUMMARY:Sant Jordi 2012: espectacle familiar "Una llegenda més de Sant Jordi" i lliurament de premis del Concurs de punts de llibre
LOCATION:
METHOD:PUBLISH
X-WR-CALNAME:caldesm@caldesdemontbui.cat
X-WR-TIMEZONE:Europe/Madrid
DESCRIPTION:
URI:https://www.caldesdemontbui.cat/actualitat/agenda/sant-jordi-2012-espectacle-familiar-una-llegenda-mes-de-sant-jordi-i-lliurament-de-premis-del-concurs-de-punts-de-llibre.html
CLASS:PUBLIC
END:VEVENT
END:VCALENDAR
