BEGIN:VCALENDAR
VERSION:2.0
CALSCALE:GREGORIAN
PRODID:-//Diputació de Barcelona//DibaCMS//EN
BEGIN:VEVENT
UID:6396
DTSTAMP:20260423T221820
DTSTART:20120423T170000
DTEND:20120423T000000
SUMMARY:Sant Jordi 2012: Cançons de la Cantata del Follet Valent
LOCATION:
METHOD:PUBLISH
X-WR-CALNAME:caldesm@caldesdemontbui.cat
X-WR-TIMEZONE:Europe/Madrid
DESCRIPTION:
URI:https://www.caldesdemontbui.cat/actualitat/agenda/sant-jordi-2012-cancons-de-la-cantata-del-follet-valent.html
CLASS:PUBLIC
END:VEVENT
END:VCALENDAR
