BEGIN:VCALENDAR
VERSION:2.0
CALSCALE:GREGORIAN
PRODID:-//Diputació de Barcelona//DibaCMS//EN
BEGIN:VEVENT
UID:6395
DTSTAMP:20260423T222720
DTSTART:20120423T160000
DTEND:20120423T000000
SUMMARY:Sant Jordi 2012: LLegendes de Caldes de Montbui i el conte de l'Escaldàrium
LOCATION:
METHOD:PUBLISH
X-WR-CALNAME:caldesm@caldesdemontbui.cat
X-WR-TIMEZONE:Europe/Madrid
DESCRIPTION:
URI:https://www.caldesdemontbui.cat/actualitat/agenda/sant-jordi-2012-llegendes-de-caldes-de-montbui-i-el-conte-de-lescaldarium.html
CLASS:PUBLIC
END:VEVENT
END:VCALENDAR
