BEGIN:VCALENDAR
VERSION:2.0
CALSCALE:GREGORIAN
PRODID:-//Diputació de Barcelona//DibaCMS//EN
BEGIN:VEVENT
UID:6391
DTSTAMP:20260424T035114
DTSTART:20120423T100000
DTEND:20120423T000000
SUMMARY:Sant Jordi 2012: Drakart. III Mercat d'art de Sant Jordi a càrrec d'artistes locals
LOCATION:
METHOD:PUBLISH
X-WR-CALNAME:caldesm@caldesdemontbui.cat
X-WR-TIMEZONE:Europe/Madrid
DESCRIPTION:
URI:https://www.caldesdemontbui.cat/actualitat/agenda/sant-jordi-2012-drakart-iii-mercat-dart-de-sant-jordi-a-carrec-dartistes-locals.html
CLASS:PUBLIC
END:VEVENT
END:VCALENDAR
