BEGIN:VCALENDAR
VERSION:2.0
CALSCALE:GREGORIAN
PRODID:-//Diputació de Barcelona//DibaCMS//EN
BEGIN:VEVENT
UID:6390
DTSTAMP:20260424T053021
DTSTART:20120423T100000
DTEND:20120423T000000
SUMMARY:Sant Jordi 2012: Paradetes de llibres, roses i pans de Sant Jordi
LOCATION:
METHOD:PUBLISH
X-WR-CALNAME:caldesm@caldesdemontbui.cat
X-WR-TIMEZONE:Europe/Madrid
DESCRIPTION:
URI:https://www.caldesdemontbui.cat/actualitat/agenda/sant-jordi-2012-paradetes-de-llibres-roses-i-pans-de-sant-jordi.html
CLASS:PUBLIC
END:VEVENT
END:VCALENDAR
