BEGIN:VCALENDAR
VERSION:2.0
CALSCALE:GREGORIAN
PRODID:-//Diputació de Barcelona//DibaCMS//EN
BEGIN:VEVENT
UID:6389
DTSTAMP:20260424T002121
DTSTART:20120422T180000
DTEND:20120422T000000
SUMMARY:Sant Jordi 2012:Revetlla literària de Sant Jordi
LOCATION:
METHOD:PUBLISH
X-WR-CALNAME:caldesm@caldesdemontbui.cat
X-WR-TIMEZONE:Europe/Madrid
DESCRIPTION:
URI:https://www.caldesdemontbui.cat/actualitat/agenda/sant-jordi-2012revetlla-literaria-de-sant-jordi.html
CLASS:PUBLIC
END:VEVENT
END:VCALENDAR
