BEGIN:VCALENDAR
VERSION:2.0
CALSCALE:GREGORIAN
PRODID:-//Diputació de Barcelona//DibaCMS//EN
BEGIN:VEVENT
UID:6387
DTSTAMP:20260423T212302
DTSTART:20120422T120000
DTEND:20120422T000000
SUMMARY:Cantata musical, El Follet Valent, a càrrec d'alumnes de l'Escola Municipal de Música Joan Valls
LOCATION:
METHOD:PUBLISH
X-WR-CALNAME:caldesm@caldesdemontbui.cat
X-WR-TIMEZONE:Europe/Madrid
DESCRIPTION:
URI:https://www.caldesdemontbui.cat/actualitat/agenda/cantata-musical-el-follet-valent-a-carrec-dalumnes-de-lescola-municipal-de-msica-joan-valls.html
CLASS:PUBLIC
END:VEVENT
END:VCALENDAR
