BEGIN:VCALENDAR
VERSION:2.0
CALSCALE:GREGORIAN
PRODID:-//Diputació de Barcelona//DibaCMS//EN
BEGIN:VEVENT
UID:6386
DTSTAMP:20260423T225551
DTSTART:20120422T000000
DTEND:20120422T000000
SUMMARY:7a etapa del Camí de Sant Jaume, entre Sant Esteve d'en Bas i l'Esquirol
LOCATION:
METHOD:PUBLISH
X-WR-CALNAME:caldesm@caldesdemontbui.cat
X-WR-TIMEZONE:Europe/Madrid
DESCRIPTION:
URI:https://www.caldesdemontbui.cat/actualitat/agenda/7a-etapa-del-cami-de-sant-jaume-entre-sant-esteve-den-bas-i-lesquirol.html
CLASS:PUBLIC
END:VEVENT
END:VCALENDAR
