BEGIN:VCALENDAR
VERSION:2.0
CALSCALE:GREGORIAN
PRODID:-//Diputació de Barcelona//DibaCMS//EN
BEGIN:VEVENT
UID:6384
DTSTAMP:20260424T131326
DTSTART:20120421T120000
DTEND:20120421T000000
SUMMARY:Inici del Taller petits lectors: música i contes per als més menuts
LOCATION:
METHOD:PUBLISH
X-WR-CALNAME:caldesm@caldesdemontbui.cat
X-WR-TIMEZONE:Europe/Madrid
DESCRIPTION:
URI:https://www.caldesdemontbui.cat/actualitat/agenda/inici-del-taller-petits-lectors-msica-i-contes-per-als-mes-menuts.html
CLASS:PUBLIC
END:VEVENT
END:VCALENDAR
