BEGIN:VCALENDAR
VERSION:2.0
CALSCALE:GREGORIAN
PRODID:-//Diputació de Barcelona//DibaCMS//EN
BEGIN:VEVENT
UID:6381
DTSTAMP:20260424T020800
DTSTART:20120420T200000
DTEND:20120420T000000
SUMMARY:Presentació del llibre A la recerca del benestar, d'Ignasi Llorente
LOCATION:
METHOD:PUBLISH
X-WR-CALNAME:caldesm@caldesdemontbui.cat
X-WR-TIMEZONE:Europe/Madrid
DESCRIPTION:
URI:https://www.caldesdemontbui.cat/actualitat/agenda/presentacio-del-llibre-a-la-recerca-del-benestar-dignasi-llorente.html
CLASS:PUBLIC
END:VEVENT
END:VCALENDAR
