BEGIN:VCALENDAR
VERSION:2.0
CALSCALE:GREGORIAN
PRODID:-//Diputació de Barcelona//DibaCMS//EN
BEGIN:VEVENT
UID:6379
DTSTAMP:20260424T002152
DTSTART:20120419T180000
DTEND:20120419T000000
SUMMARY:Contes en anglès: The three billy goats gruff
LOCATION:
METHOD:PUBLISH
X-WR-CALNAME:caldesm@caldesdemontbui.cat
X-WR-TIMEZONE:Europe/Madrid
DESCRIPTION:
URI:https://www.caldesdemontbui.cat/actualitat/agenda/contes-en-angles-the-three-billy-goats-gruff.html
CLASS:PUBLIC
END:VEVENT
END:VCALENDAR
