BEGIN:VCALENDAR
VERSION:2.0
CALSCALE:GREGORIAN
PRODID:-//Diputació de Barcelona//DibaCMS//EN
BEGIN:VEVENT
UID:6377
DTSTAMP:20260424T020532
DTSTART:20120418T090000
DTEND:20120418T000000
SUMMARY:Caminada a les Piscines de Palau
LOCATION:
METHOD:PUBLISH
X-WR-CALNAME:caldesm@caldesdemontbui.cat
X-WR-TIMEZONE:Europe/Madrid
DESCRIPTION:
URI:https://www.caldesdemontbui.cat/actualitat/agenda/caminada-a-les-piscines-de-palau.html
CLASS:PUBLIC
END:VEVENT
END:VCALENDAR
