BEGIN:VCALENDAR
VERSION:2.0
CALSCALE:GREGORIAN
PRODID:-//Diputació de Barcelona//DibaCMS//EN
BEGIN:VEVENT
UID:6376
DTSTAMP:20260424T035025
DTSTART:20120418T090000
DTEND:20120418T000000
SUMMARY:Excursió a Pinós
LOCATION:
METHOD:PUBLISH
X-WR-CALNAME:caldesm@caldesdemontbui.cat
X-WR-TIMEZONE:Europe/Madrid
DESCRIPTION:
URI:https://www.caldesdemontbui.cat/actualitat/agenda/excursio-a-pinos.html
CLASS:PUBLIC
END:VEVENT
END:VCALENDAR
