BEGIN:VCALENDAR
VERSION:2.0
CALSCALE:GREGORIAN
PRODID:-//Diputació de Barcelona//DibaCMS//EN
BEGIN:VEVENT
UID:6375
DTSTAMP:20260424T003716
DTSTART:20120417T193000
DTEND:20120417T000000
SUMMARY:Presentació del conte Escaldàrium, la llegenda del foc i l'aigua, i del llibre Llegendes de Caldes de Montbui
LOCATION:
METHOD:PUBLISH
X-WR-CALNAME:caldesm@caldesdemontbui.cat
X-WR-TIMEZONE:Europe/Madrid
DESCRIPTION:
URI:https://www.caldesdemontbui.cat/actualitat/agenda/presentacio-del-conte-escaldarium-la-llegenda-del-foc-i-laigua-i-del-llibre-llegendes-de-caldes-de-montbui.html
CLASS:PUBLIC
END:VEVENT
END:VCALENDAR
