BEGIN:VCALENDAR
VERSION:2.0
CALSCALE:GREGORIAN
PRODID:-//Diputació de Barcelona//DibaCMS//EN
BEGIN:VEVENT
UID:6374
DTSTAMP:20260424T053134
DTSTART:20120416T193000
DTEND:20120416T000000
SUMMARY:Formació per a famílies: Teatre - fòrum "Què dir desprès de dir no (com negociar un sí)"
LOCATION:
METHOD:PUBLISH
X-WR-CALNAME:caldesm@caldesdemontbui.cat
X-WR-TIMEZONE:Europe/Madrid
DESCRIPTION:
URI:https://www.caldesdemontbui.cat/actualitat/agenda/formacio-per-a-families-teatre---forum-que-dir-despres-de-dir-no-com-negociar-un-si.html
CLASS:PUBLIC
END:VEVENT
END:VCALENDAR
