BEGIN:VCALENDAR
VERSION:2.0
CALSCALE:GREGORIAN
PRODID:-//Diputació de Barcelona//DibaCMS//EN
BEGIN:VEVENT
UID:6373
DTSTAMP:20260424T004051
DTSTART:20120415T180000
DTEND:20120415T000000
SUMMARY:Taca'm 2012: Debat de fusta i guix, a càrrec de Pierrot Teatre
LOCATION:
METHOD:PUBLISH
X-WR-CALNAME:caldesm@caldesdemontbui.cat
X-WR-TIMEZONE:Europe/Madrid
DESCRIPTION:
URI:https://www.caldesdemontbui.cat/actualitat/agenda/tacam-2012-debat-de-fusta-i-guix-a-carrec-de-pierrot-teatre.html
CLASS:PUBLIC
END:VEVENT
END:VCALENDAR
