BEGIN:VCALENDAR
VERSION:2.0
CALSCALE:GREGORIAN
PRODID:-//Diputació de Barcelona//DibaCMS//EN
BEGIN:VEVENT
UID:6371
DTSTAMP:20260423T224757
DTSTART:20120415T000000
DTEND:20120415T000000
SUMMARY:Matinal al Massís de Montserrat. Recorregut per la zona dels Ecos
LOCATION:
METHOD:PUBLISH
X-WR-CALNAME:caldesm@caldesdemontbui.cat
X-WR-TIMEZONE:Europe/Madrid
DESCRIPTION:
URI:https://www.caldesdemontbui.cat/actualitat/agenda/matinal-al-massis-de-montserrat-recorregut-per-la-zona-dels-ecos.html
CLASS:PUBLIC
END:VEVENT
END:VCALENDAR
