BEGIN:VCALENDAR
VERSION:2.0
CALSCALE:GREGORIAN
PRODID:-//Diputació de Barcelona//DibaCMS//EN
BEGIN:VEVENT
UID:6370
DTSTAMP:20260424T142915
DTSTART:20120413T193000
DTEND:20120413T000000
SUMMARY:Setmana de la Guitarra. Concert de Manuel Sánchez
LOCATION:
METHOD:PUBLISH
X-WR-CALNAME:caldesm@caldesdemontbui.cat
X-WR-TIMEZONE:Europe/Madrid
DESCRIPTION:
URI:https://www.caldesdemontbui.cat/actualitat/agenda/setmana-de-la-guitarra-concert-de-manuel-sanchez.html
CLASS:PUBLIC
END:VEVENT
END:VCALENDAR
