BEGIN:VCALENDAR
VERSION:2.0
CALSCALE:GREGORIAN
PRODID:-//Diputació de Barcelona//DibaCMS//EN
BEGIN:VEVENT
UID:6369
DTSTAMP:20260424T040920
DTSTART:20120413T190000
DTEND:20120413T000000
SUMMARY:Inauguració de l'exposició "Intent Intens 2.0", a càrrec de Pere Castellsagués. Es podrà visitar fins el 29 d'abril
LOCATION:
METHOD:PUBLISH
X-WR-CALNAME:caldesm@caldesdemontbui.cat
X-WR-TIMEZONE:Europe/Madrid
DESCRIPTION:
URI:https://www.caldesdemontbui.cat/actualitat/agenda/inauguracio-de-lexposicio-intent-intens-20-a-carrec-de-pere-castellsagues-es-podra-visitar-fins-el-29-dabril.html
CLASS:PUBLIC
END:VEVENT
END:VCALENDAR
