BEGIN:VCALENDAR
VERSION:2.0
CALSCALE:GREGORIAN
PRODID:-//Diputació de Barcelona//DibaCMS//EN
BEGIN:VEVENT
UID:6368
DTSTAMP:20260424T102434
DTSTART:20120412T215000
DTEND:20120412T000000
SUMMARY:Pas per Caldes de Montbui de la 9a edició del Rally Costa Brava Històric
LOCATION:
METHOD:PUBLISH
X-WR-CALNAME:caldesm@caldesdemontbui.cat
X-WR-TIMEZONE:Europe/Madrid
DESCRIPTION:
URI:https://www.caldesdemontbui.cat/actualitat/agenda/pas-per-caldes-de-montbui-de-la-9a-edicio-del-rally-costa-brava-historic.html
CLASS:PUBLIC
END:VEVENT
END:VCALENDAR
