BEGIN:VCALENDAR
VERSION:2.0
CALSCALE:GREGORIAN
PRODID:-//Diputació de Barcelona//DibaCMS//EN
BEGIN:VEVENT
UID:6367
DTSTAMP:20260424T052640
DTSTART:20120411T100000
DTEND:20120411T000000
SUMMARY:Exposició de pintura de l'artista local Antoni Font
LOCATION:
METHOD:PUBLISH
X-WR-CALNAME:caldesm@caldesdemontbui.cat
X-WR-TIMEZONE:Europe/Madrid
DESCRIPTION:
URI:https://www.caldesdemontbui.cat/actualitat/agenda/exposicio-de-pintura-de-lartista-local-antoni-font.html
CLASS:PUBLIC
END:VEVENT
END:VCALENDAR
