BEGIN:VCALENDAR
VERSION:2.0
CALSCALE:GREGORIAN
PRODID:-//Diputació de Barcelona//DibaCMS//EN
BEGIN:VEVENT
UID:6365
DTSTAMP:20260424T002254
DTSTART:20120410T180000
DTEND:20120410T000000
SUMMARY:Trobada del Club dels Enganxats. 7è Premi de Literatura Infantil "Atrapalllibres". Categoria 9 anys
LOCATION:
METHOD:PUBLISH
X-WR-CALNAME:caldesm@caldesdemontbui.cat
X-WR-TIMEZONE:Europe/Madrid
DESCRIPTION:
URI:https://www.caldesdemontbui.cat/actualitat/agenda/trobada-del-club-dels-enganxats-7e-premi-de-literatura-infantil-atrapalllibres-categoria-9-anys.html
CLASS:PUBLIC
END:VEVENT
END:VCALENDAR
