BEGIN:VCALENDAR
VERSION:2.0
CALSCALE:GREGORIAN
PRODID:-//Diputació de Barcelona//DibaCMS//EN
BEGIN:VEVENT
UID:6363
DTSTAMP:20260424T102501
DTSTART:20120409T090000
DTEND:20120409T000000
SUMMARY:Caminada al Negrell 
LOCATION:
METHOD:PUBLISH
X-WR-CALNAME:caldesm@caldesdemontbui.cat
X-WR-TIMEZONE:Europe/Madrid
DESCRIPTION:
URI:https://www.caldesdemontbui.cat/actualitat/agenda/caminada-al-negrell-.html
CLASS:PUBLIC
END:VEVENT
END:VCALENDAR
