BEGIN:VCALENDAR
VERSION:2.0
CALSCALE:GREGORIAN
PRODID:-//Diputació de Barcelona//DibaCMS//EN
BEGIN:VEVENT
UID:6362
DTSTAMP:20260424T014850
DTSTART:20120405T203000
DTEND:20120405T000000
SUMMARY:Concert de Ruper Ordorika
LOCATION:
METHOD:PUBLISH
X-WR-CALNAME:caldesm@caldesdemontbui.cat
X-WR-TIMEZONE:Europe/Madrid
DESCRIPTION:
URI:https://www.caldesdemontbui.cat/actualitat/agenda/concert-de-ruper-ordorika.html
CLASS:PUBLIC
END:VEVENT
END:VCALENDAR
