BEGIN:VCALENDAR
VERSION:2.0
CALSCALE:GREGORIAN
PRODID:-//Diputació de Barcelona//DibaCMS//EN
BEGIN:VEVENT
UID:6361
DTSTAMP:20260424T003614
DTSTART:20120402T180000
DTEND:20120402T000000
SUMMARY:Dia Internacional del Llibre Infantil. Taller de Bookcrossing a la Biblioteca de Caldes. (Inscripció prèvia)
LOCATION:
METHOD:PUBLISH
X-WR-CALNAME:caldesm@caldesdemontbui.cat
X-WR-TIMEZONE:Europe/Madrid
DESCRIPTION:
URI:https://www.caldesdemontbui.cat/actualitat/agenda/dia-internacional-del-llibre-infantil-taller-de-bookcrossing-a-la-biblioteca-de-caldes-inscripcio-previa.html
CLASS:PUBLIC
END:VEVENT
END:VCALENDAR
