BEGIN:VCALENDAR
VERSION:2.0
CALSCALE:GREGORIAN
PRODID:-//Diputació de Barcelona//DibaCMS//EN
BEGIN:VEVENT
UID:6360
DTSTAMP:20260424T015953
DTSTART:20120401T180000
DTEND:20120401T000000
SUMMARY:Taca'm 2012: Ens trobem a l'apartament, a càrrec del Grup de Teatre ACR
LOCATION:
METHOD:PUBLISH
X-WR-CALNAME:caldesm@caldesdemontbui.cat
X-WR-TIMEZONE:Europe/Madrid
DESCRIPTION:
URI:https://www.caldesdemontbui.cat/actualitat/agenda/tacam-2012-ens-trobem-a-lapartament-a-carrec-del-grup-de-teatre-acr.html
CLASS:PUBLIC
END:VEVENT
END:VCALENDAR
