BEGIN:VCALENDAR
VERSION:2.0
CALSCALE:GREGORIAN
PRODID:-//Diputació de Barcelona//DibaCMS//EN
BEGIN:VEVENT
UID:6359
DTSTAMP:20260424T104700
DTSTART:20120331T000000
DTEND:20120331T000000
SUMMARY:Caminada: Tradicional travessa entre Caldes i Montserrat (40km)
LOCATION:
METHOD:PUBLISH
X-WR-CALNAME:caldesm@caldesdemontbui.cat
X-WR-TIMEZONE:Europe/Madrid
DESCRIPTION:
URI:https://www.caldesdemontbui.cat/actualitat/agenda/caminada-tradicional-travessa-entre-caldes-i-montserrat-40km.html
CLASS:PUBLIC
END:VEVENT
END:VCALENDAR
