BEGIN:VCALENDAR
VERSION:2.0
CALSCALE:GREGORIAN
PRODID:-//Diputació de Barcelona//DibaCMS//EN
BEGIN:VEVENT
UID:6357
DTSTAMP:20260424T001313
DTSTART:20120330T193000
DTEND:20120330T000000
SUMMARY:Inauguració de l'exposició de pintura i escultura d'Alfredo Lanz i Montserrat Faura
LOCATION:
METHOD:PUBLISH
X-WR-CALNAME:caldesm@caldesdemontbui.cat
X-WR-TIMEZONE:Europe/Madrid
DESCRIPTION:
URI:https://www.caldesdemontbui.cat/actualitat/agenda/inauguracio-de-lexposicio-de-pintura-i-escultura-dalfredo-lanz-i-montserrat-faura.html
CLASS:PUBLIC
END:VEVENT
END:VCALENDAR
