BEGIN:VCALENDAR
VERSION:2.0
CALSCALE:GREGORIAN
PRODID:-//Diputació de Barcelona//DibaCMS//EN
BEGIN:VEVENT
UID:6356
DTSTAMP:20260424T021925
DTSTART:20120330T180000
DTEND:20120330T000000
SUMMARY:Hora del conte: Els contes del mico Filós, a càrrec de Mercè Rubí
LOCATION:
METHOD:PUBLISH
X-WR-CALNAME:caldesm@caldesdemontbui.cat
X-WR-TIMEZONE:Europe/Madrid
DESCRIPTION:
URI:https://www.caldesdemontbui.cat/actualitat/agenda/hora-del-conte-els-contes-del-mico-filos-a-carrec-de-merce-rubi.html
CLASS:PUBLIC
END:VEVENT
END:VCALENDAR
