BEGIN:VCALENDAR
VERSION:2.0
CALSCALE:GREGORIAN
PRODID:-//Diputació de Barcelona//DibaCMS//EN
BEGIN:VEVENT
UID:6354
DTSTAMP:20260424T085854
DTSTART:20120328T173000
DTEND:20120328T000000
SUMMARY:Tertúlia oberta: règims, dietes i imatge
LOCATION:
METHOD:PUBLISH
X-WR-CALNAME:caldesm@caldesdemontbui.cat
X-WR-TIMEZONE:Europe/Madrid
DESCRIPTION:
URI:https://www.caldesdemontbui.cat/actualitat/agenda/tertlia-oberta-regims-dietes-i-imatge.html
CLASS:PUBLIC
END:VEVENT
END:VCALENDAR
