BEGIN:VCALENDAR
VERSION:2.0
CALSCALE:GREGORIAN
PRODID:-//Diputació de Barcelona//DibaCMS//EN
BEGIN:VEVENT
UID:6353
DTSTAMP:20260424T051453
DTSTART:20120328T160000
DTEND:20120328T000000
SUMMARY:Sortida cultural al cinema IMAX
LOCATION:
METHOD:PUBLISH
X-WR-CALNAME:caldesm@caldesdemontbui.cat
X-WR-TIMEZONE:Europe/Madrid
DESCRIPTION:
URI:https://www.caldesdemontbui.cat/actualitat/agenda/sortida-cultural-al-cinema-imax.html
CLASS:PUBLIC
END:VEVENT
END:VCALENDAR
